BEGIN:VCALENDAR
VERSION:2.0
PRODID:-//eventon.com NONSGML v1.0//EN
CALSCALE:GREGORIAN
METHOD:PUBLISH
BEGIN:VEVENT
UID:69e73f88cd701
DTSTAMP:20260421T091240Z
DTSTART:20171024T163000Z
DTEND:20171024T173000Z
LOCATION:
SUMMARY:OCT 24 | Info Session: Certificate Program in Fine Art Photography
DESCRIPTION:Join us for Certificate Program Information Sessions to learn m
 ore about the program\,  ask questions and get connected with the Photograp
 hic Center Northwest (PCNW) community. Upcoming Information Session Dates: 
 October 24\,  2017 | Tuesday\,  4:30-5:30pm December 9\,  2017 | Saturday\,
   1-2pm February 1\,  2018 | Thursday\,  6-7pm The Certificate Program[..]\
 nhttps://pcnw.org/events/oct-24-info-session-certificate-program-in-fine-ar
 t-photography/
URL:https://pcnw.org/events/oct-24-info-session-certificate-program-in-fine-art-photography/
END:VEVENT
END:VCALENDAR