BEGIN:VCALENDAR
VERSION:2.0
PRODID:-//eventon.com NONSGML v1.0//EN
CALSCALE:GREGORIAN
METHOD:PUBLISH
BEGIN:VEVENT
UID:69e5f0fbeb06b
DTSTAMP:20260420T092515Z
DTSTART:20230128T210000Z
DTEND:20230129T050000Z
LOCATION:
SUMMARY:JAN 28 | IN-PERSON MASTERCLASS: Linda Connor
DESCRIPTION:Masterclass with Linda Connor Faculty: Linda Connor January 28\
 ,  2023 | Saturday 10am-6pm In-person $400 Join us for a very special works
 hop with celebrated photographic artist and renowned educator Linda Connor.
  The workshop will begin with Connor leading participants through a brief v
 isual history of photography in order to find[..]\nhttps://pcnw.org/events/
 jan-28-in-person-masterclass-linda-connor/
URL:https://pcnw.org/events/jan-28-in-person-masterclass-linda-connor/
END:VEVENT
END:VCALENDAR